BEGIN:VCALENDAR
VERSION:2.0
PRODID:-//FK-KMK UGM - ECPv6.15.20//NONSGML v1.0//EN
CALSCALE:GREGORIAN
METHOD:PUBLISH
X-ORIGINAL-URL:https://fkkmk.ugm.ac.id
X-WR-CALDESC:Events for FK-KMK UGM
REFRESH-INTERVAL;VALUE=DURATION:PT1H
X-Robots-Tag:noindex
X-PUBLISHED-TTL:PT1H
BEGIN:VTIMEZONE
TZID:Asia/Jakarta
BEGIN:STANDARD
TZOFFSETFROM:+0700
TZOFFSETTO:+0700
TZNAME:WIB
DTSTART:20240101T000000
END:STANDARD
END:VTIMEZONE
BEGIN:VEVENT
DTSTART;TZID=Asia/Jakarta:20250203T080000
DTEND;TZID=Asia/Jakarta:20250204T160000
DTSTAMP:20260426T060439
CREATED:20241212T081028Z
LAST-MODIFIED:20241212T081028Z
UID:56530-1738569600-1738684800@fkkmk.ugm.ac.id
SUMMARY:Kursus Imunohistokimia 2025
DESCRIPTION:Departemen Histologi & Biologi Sel akan menyelenggarakan Kursus Imunohistokimia 2025 yang akan dilaksanakan pada:\nHari       : Senin – Selasa\nTanggal : 3 – 4 Februari 2025\nTempat : FK-KMK UGM\n\nMateri   :\n– Dasar – dasar dan kontrol mutu imunohistokimia\n– Optimasi\, permasalahan dan langkah mengatasi masalah pewarnaan imunohistokimia\n– Analisis hasil pewarnaan\n\nPraktikum :\nImunohistokimia CD20 pada irisan blok parafin berbagai jaringan\n\nInstruktur :\ndr. Rina Susilowati\, Ph.D\nDian Eurike Septyaningtrias\, S.Ked.\, M.Sc\, Ph.D\ndrg. Yustina Andwi Ari Sumiwi\, M.Kes\n\n️Peserta : Mahasiswa S1\, S2\, S3\, Peneliti\, Dosen\nminimal 10 orang\, maksimal 30 orang\n\nBiaya :\nAlumni\, mahasiswa\, dan staf UGM\, anggota PAAI Rp 2.100.000\,-\nUmum Rp 2.400.000\,-\n\nPendaftaran : http://bit.ly/KursusMikroteknik2025\nPaling lambat 25 Januari 2025\n\nFasilitas :\n– Bahan ajar\n– Sertifikat\n– Makan siang dan snack\n\nNarahubung Sdr. Annisa\nWhatsapp: 085801628026
URL:https://fkkmk.ugm.ac.id/agenda/kursus-imunohistokimia-2025/
ATTACH;FMTTYPE=image/jpeg:https://fkkmk.ugm.ac.id/wp-content/uploads/sites/33/2024/12/Poster-Kursus-Teknik-Imunohistokimia-3-4-Februari-2025.jpeg
END:VEVENT
BEGIN:VEVENT
DTSTART;TZID=Asia/Jakarta:20250213T080000
DTEND;TZID=Asia/Jakarta:20250215T160000
DTSTAMP:20260426T060439
CREATED:20241212T081426Z
LAST-MODIFIED:20241212T081426Z
UID:56534-1739433600-1739635200@fkkmk.ugm.ac.id
SUMMARY:GAMA-ICTM 2025: Call for Abstracts and Best Practices
DESCRIPTION:“Strengthening Health System Resilience for Tropical Disease Control in a Rapidly Changing World“ \nCall for Abstracts \n\nInnovation in Disease Management\nEmerging Threats and Health System Resilience\nOne Health and Environmental Drivers of Disease\n\nCall for Best Practices \n\nPublic Health Communication\, Advocacy\, and Behavior Change\nCapacity Building in Disease Control\nInnovative Approaches in Tropical Medicine\nAddressing Stigma\, Social\, and Resource Barriers in Disease Management\n\nKirimkan abstrak Anda melalui tautan: bit.ly/GAMAICTM-AbstractSubmission dan best practice melalui: bit.ly/GAMAICTM-BestPracticeSubmission paling lambat 18 Desember 2024\, pukul 23:59 WIB \nUntuk informasi lebih lanjut\, silakan kunjungi situs resmi kami di www.gamaictm.id atau hubungi kami di +62 822-40000-896 (Tropmed UGM).
URL:https://fkkmk.ugm.ac.id/agenda/gama-ictm-2025-call-for-abstracts-and-best-practices/
CATEGORIES:Internasional
ATTACH;FMTTYPE=image/jpeg:https://fkkmk.ugm.ac.id/wp-content/uploads/sites/33/2024/12/Flyer-call-for-abstract-GAMA-ICTM-extended.jpg
END:VEVENT
END:VCALENDAR