BEGIN:VCALENDAR
VERSION:2.0
PRODID:-//FK-KMK UGM - ECPv6.15.20//NONSGML v1.0//EN
CALSCALE:GREGORIAN
METHOD:PUBLISH
X-WR-CALNAME:FK-KMK UGM
X-ORIGINAL-URL:https://fkkmk.ugm.ac.id
X-WR-CALDESC:Events for FK-KMK UGM
REFRESH-INTERVAL;VALUE=DURATION:PT1H
X-Robots-Tag:noindex
X-PUBLISHED-TTL:PT1H
BEGIN:VTIMEZONE
TZID:Asia/Jakarta
BEGIN:STANDARD
TZOFFSETFROM:+0700
TZOFFSETTO:+0700
TZNAME:WIB
DTSTART:20220101T000000
END:STANDARD
END:VTIMEZONE
BEGIN:VEVENT
DTSTART;VALUE=DATE:20231111
DTEND;VALUE=DATE:20231113
DTSTAMP:20260419T211814
CREATED:20231110T020541Z
LAST-MODIFIED:20231207T010535Z
UID:45307-1699660800-1699833599@fkkmk.ugm.ac.id
SUMMARY:MediKAP EXPO
DESCRIPTION:MediKAP expo \nAcara pameran program unggulan luaran Urusan Kerja sama\, Alumni\, dan Pengabdian Masyarakat. Kegiatan ini mengundang klaster dan pusat/unit yang memiliki program unggulan untuk berpartisipasi mengisi booth. \nHari\, tanggal : Jumat-Sabtu\, 10-11 November 2023 \nWaktu : Pkl. 07.30-15.30 WIB; Pkl.07.30-12.00 WIB \nTempat : Halaman depan Gedung Grha Wiyata \n  \nMediKAP Sarasehan \nSarasehan meliputi acara diskusi panel dan diskusi terbuka Urusan Kerja sama\, Alumni\, dan Pengabdian Masyarakat (KAP). Diskusi panel mengundang narasumber yaitu Prof. dr. Jarir At Thobari\, Ph.D\, Dr. dr. Rustamadji\, M.Kes.\, dan WHO Indonesia untuk membahas kerja sama multihelix. Kegiatan ini dimoderatori oleh Tony Arjuna\, S.Gz.\, M.Nut.Diet.\, AN.\, APD.\, Ph.D. Diskusi terbuka mengundang binaan KAP diantaranya JCOEMPH\, Dewi Pinang\, Sportbar\, Aloe-Ku\, Pasar Krempyeng RSA\, Batik Pundong\, dan RS Jejaring Klaten Jamu. \nHari\, tanggal : Jumat\, 10 November 2023 \nWaktu : Pkl. 09.00-11.30 WIB \nTempat : Auditorium Gedung Tahir Lantai 1\, FK-KMK \n  \nMediKAP Fun Run \nAcara lari tidak berbayar dan dapat diikuti oleh sivitas akademik dan masyarakat umum. \nHari\, tanggal : Sabtu\, 11 November 2023 \nWaktu : Pkl. 06.00-12.00 WIB \nStart/Finish : Depan Gedung Tahir\, FK-KMK \n 
URL:https://fkkmk.ugm.ac.id/agenda/medikap-expo/
LOCATION:Fakultas Kedokteran Kesehatan Masyarakat dan Keperawatan Universitas Gadjah Mada\, Jl. Farmako Sekip Utara\, Yogyakarta\, DIY\, 55281\, Indonesia
ATTACH;FMTTYPE=image/jpeg:https://fkkmk.ugm.ac.id/wp-content/uploads/sites/33/2023/11/medikap.jpg
END:VEVENT
BEGIN:VEVENT
DTSTART;VALUE=DATE:20231106
DTEND;VALUE=DATE:20231118
DTSTAMP:20260419T211814
CREATED:20231109T031614Z
LAST-MODIFIED:20231109T072038Z
UID:45272-1699228800-1700265599@fkkmk.ugm.ac.id
SUMMARY:Summer Course 2023
DESCRIPTION:Summer Course 2023 – Future of Healthcare: Leapfrogging Innovation through Precision Medicine is aimed to improve interprofessionalism in health services managements and technologies with their accompanying problems by interdisciplinary and multi-university approach. This summer course outlines health sciences\, integrated with social sciences and population study in health system.
URL:https://fkkmk.ugm.ac.id/agenda/summer-course/
LOCATION:Fakultas Kedokteran Kesehatan Masyarakat dan Keperawatan Universitas Gadjah Mada\, Jl. Farmako Sekip Utara\, Yogyakarta\, DIY\, 55281\, Indonesia
CATEGORIES:Internasional
ATTACH;FMTTYPE=image/jpeg:https://fkkmk.ugm.ac.id/wp-content/uploads/sites/33/2023/11/sc_header_logo-scaled.jpg
ORGANIZER;CN="Kehumasan dan Protokoler FK-KMK UGM":MAILTO:humas.fku@ugm.ac.id
END:VEVENT
END:VCALENDAR