BEGIN:VCALENDAR
VERSION:2.0
PRODID:-//FK-KMK UGM - ECPv6.15.20//NONSGML v1.0//EN
CALSCALE:GREGORIAN
METHOD:PUBLISH
X-WR-CALNAME:FK-KMK UGM
X-ORIGINAL-URL:https://fkkmk.ugm.ac.id
X-WR-CALDESC:Events for FK-KMK UGM
REFRESH-INTERVAL;VALUE=DURATION:PT1H
X-Robots-Tag:noindex
X-PUBLISHED-TTL:PT1H
BEGIN:VTIMEZONE
TZID:Asia/Jakarta
BEGIN:STANDARD
TZOFFSETFROM:+0700
TZOFFSETTO:+0700
TZNAME:WIB
DTSTART:20220101T000000
END:STANDARD
END:VTIMEZONE
BEGIN:VEVENT
DTSTART;TZID=Asia/Jakarta:20240607T160000
DTEND;TZID=Asia/Jakarta:20240607T180000
DTSTAMP:20260426T101704
CREATED:20240606T062849Z
LAST-MODIFIED:20240606T062849Z
UID:47941-1717776000-1717783200@fkkmk.ugm.ac.id
SUMMARY:ASEAN Journal of Disaster Health Management (AJDHM)
DESCRIPTION:Webinar Series Academic Writing Workshop. \nPertemuan workshop ketiga akan dilaksanakan pada:\nHari/tanggal: Jumat\, 7 Juni 2024\nPukul: 16.00-18.00 WIB (Jakarta/GMT+7)\nTopik: How to write Result and Discussion\nWorkshop akan membahas mengenai interpretasi temuan atau hasil penelitian\, merumuskan diskusi\, dan menarik kesimpulan penelitian. Selain itu\, akan ada sesi interaktif dan tanya jawab yang akan membahas lebih komprehensif dari studi kasus suatu penelitian/artikel. \nSilahkan registrasi pada: https://bit.ly/AJDHM_workshop
URL:https://fkkmk.ugm.ac.id/agenda/asean-journal-of-disaster-health-management-ajdhm/
ATTACH;FMTTYPE=image/jpeg:https://fkkmk.ugm.ac.id/wp-content/uploads/sites/33/2024/06/WhatsApp-Image-2024-06-06-at-13.11.01.jpeg
END:VEVENT
BEGIN:VEVENT
DTSTART;TZID=Asia/Jakarta:20240302T080000
DTEND;TZID=Asia/Jakarta:20240302T170000
DTSTAMP:20260426T101704
CREATED:20240219T010815Z
LAST-MODIFIED:20240220T090138Z
UID:46944-1709366400-1709398800@fkkmk.ugm.ac.id
SUMMARY:ANNUAL SCIENTIFIC MEETING FK-KMK UGM 2024: Precision Healthcare: Past\, Present\, Future
DESCRIPTION:ANNUAL SCIENTIFIC MEETING FK-KMK UGM 2024 \n  \nTema Utama: \nPrecision Healthcare: Past\, Present\, Future \n  \nSubtema: \nTransforming Indonesia Health into Precision Medicine Era \nPrecision Healthcare in the Past \nCurrent Precision Healthcare \nPrecision Healthcare in the Future \nFinal Inovasi Kesehatan \n  \nHari\, tanggal : Sabtu\, 2 Maret 2023 \nWaktu         : 08.00-15.00 WIB \nTempat (luring) : Auditorium lantai 1\, Gedung Tahir Sayap Utara FKKMK UGM \nZoom (daring) : To be confirmed \n  \nHarga: \nDaring: Rp 50.000.- \nLuring: Rp 150.000.- \n  \nNote: \n Pendaftaran: bit.ly/PrecisionHealthcare2024 \n Peserta diwajibkan registrasi dan mengupload bukti pembayaran \n Peserta akan mendapatkan E-sertifikat melalui E-mail setelah mengikuti rangkaian acara \n Pembayaran melalui Bank BRI No Rek: 0029-01-001966-56-6\, an: KAGAMA KEDOKTERAN
URL:https://fkkmk.ugm.ac.id/agenda/annual-scientific-meeting-fk-kmk-ugm-2024-precision-healthcare-past-present-future/
ATTACH;FMTTYPE=image/jpeg:https://fkkmk.ugm.ac.id/wp-content/uploads/sites/33/2024/02/ASM_rev1.jpeg
END:VEVENT
BEGIN:VEVENT
DTSTART;TZID=Asia/Jakarta:20240226T071500
DTEND;TZID=Asia/Jakarta:20240301T150000
DTSTAMP:20260426T101704
CREATED:20240202T073830Z
LAST-MODIFIED:20240202T074804Z
UID:46589-1708931700-1709305200@fkkmk.ugm.ac.id
SUMMARY:KURSUS TEKNIK BIOLOGI MOLEKULAR
DESCRIPTION:Departemen Histologi & Biologi Sel FK-KMK UGM mempersembahkan\nKURSUS TEKNIK BIOLOGI MOLEKULAR dengan judul: \n“Kiat Sukses Isolasi Asam Nukleat\, PCR\, qPCR\, dan Pemanfaatannya” \nKursus terdiri dari Kursus Dasar dan Kursus Lanjutan yang masing-masing akan diselenggarakan secara daring (melalui zoom) dan luring (praktikum di laboratorium) dengan jadwal dan tautan pendaftaran sebagai berikut: \nKursus Dasar Daring\nHari\, tanggal : Senin\, 26 Februari 2024\nJam               :  07.45 – 11.15 WIB\nTempat         : Zoom (tautan menyusul) \nKursus Dasar Luring\nHari\, tanggal : Kamis\, 29 Februari 2024\nJam               :  07.45 – 15.00 WIB\nTempat         : Laboratorium Riset Terpadu (LRT) di FK-KMK UGM \nKursus Lanjutan Daring\nHari\, tanggal : Selasa\, 27 Februari 2024\nJam               :  07.45 – 11.15 WIB\nTempat         : Zoom (tautan menyusul) \nKursus Lanjutan Luring\nHari\, tanggal : Jumat\, 1 Maret 2024\nJam               :  07.45 – 15.00 WIB\nTempat         : Laboratorium Riset Terpadu (LRT) di FK-KMK UGM \nTautan pendaftaran: https://bit.ly/KursusBiologiMolekuler2024 \nPeserta:\n– Dosen\, peneliti\, mahasiswa\, teknisi laboratorium\n– Untuk Kursus Daring tidak dibatasi\n– Untuk kursus Luring di Laboratorium Minimal 8 peserta\, maksimal 16 peserta\n– Panitia berhak membatalkan kursus apabila jumlah peserta tidak memenuhi jumlah minimal \nMateri kuliah daring:\n>Ekstraksi DNA dan RNA\n>Pemeriksaan kualitas dan kuantitas DNA dan RNA\n>Dasar teori PCR dan qPCR \nPraktikum:\n>Isolasi DNA dan sintesis cDNA\n>Pemeriksaan kualitas dan kuantitas DNA\n>PCR dan qPCR \nNarasumber:\nDra. Dewajani Purnomosari\, M.Si.\, PhD\nSaihas Suhda\, S.Si.\, M.Sc.\, PhD\ndr. Endy Widya P.\, PhD\, M.Med.Sc.\, Sp.A\ndan tim \nBiaya:\nKursus Dasar atau Kursus Lanjutan daring: Rp500.000 (Umum); Rp400.000 (Alumni)\nKursus Dasar luring: Rp1.400.000 (Umum); Rp1.300.000 (Alumni)\nKursus Lanjutan luring: Rp1.700.000 (Umum); Rp1.600.000 (Alumni) \nNarahubung:\nSiti Ani Muntoifah\, S.E\n085729244666 (WA)
URL:https://fkkmk.ugm.ac.id/agenda/kursus-teknik-biologi-molekular/
ATTACH;FMTTYPE=image/jpeg:https://fkkmk.ugm.ac.id/wp-content/uploads/sites/33/2024/02/Poster-biologi-molekuler.jpeg
END:VEVENT
BEGIN:VEVENT
DTSTART;TZID=Asia/Jakarta:20240213T160000
DTEND;TZID=Asia/Jakarta:20240213T175000
DTSTAMP:20260426T101704
CREATED:20240123T045636Z
LAST-MODIFIED:20240123T082205Z
UID:46219-1707840000-1707846600@fkkmk.ugm.ac.id
SUMMARY:General Lecture for Disaster Health Research Methodology
DESCRIPTION:ASEAN Institute for Disaster Health Management is excited to extend an exclusive invitation to you for a groundbreaking online event organized by ASEAN Journal of Disaster Health Management (AJDHM). \nEvent Details:  \n\n\n\nTitle\nGeneral Lecture for Disaster Health Research Methodology\n\n\nDate\nTuesday\, 13th February 2024\n\n\nTime\n04:00-05:50 (Jakarta/GMT+7)\n\n\nPlatform\nZoom Meeting \nPlease register through https://bit.ly/AJDHM_GL\n\n\n\nJoin us for an insightful and comprehensive online lecture on Disaster Health Research Methodology\, where we will bring and explore the promotions of ASEAN Journal of Disaster Health Management (AJDHM) and innovations\, latest trends\, or challenges in disaster health research. This lecture is designed to bring together researchers\, practitioners\, and students who are interested in advancing their understanding of disaster health research. \nRegistration:  \nTo secure your spot at this enlightening lecture\, please register through https://bit.ly/AJDHM_GL. We would like to share the virtual background for this convenience through E-mail after completing your registration. Therefore\, please fill out all of the requirements on the registration link. Attendance is free\, we encourage you to share this invitation with your colleagues who may benefit from this opportunity.  \nWe are confident that this online general lecture will be a valuable addition to your knowledge and professional network. We look forward to your active participation and meaningful contributions to the discussion. \nFor further information:\nGusti Sultan Arifin (+62 896-5296-6320) \n 
URL:https://fkkmk.ugm.ac.id/agenda/general-lecture-for-disaster-health-research-methodology/
ATTACH;FMTTYPE=image/jpeg:https://fkkmk.ugm.ac.id/wp-content/uploads/sites/33/2024/01/WhatsApp-Image-2024-01-23-at-15.15.33.jpeg
END:VEVENT
BEGIN:VEVENT
DTSTART;VALUE=DATE:20231111
DTEND;VALUE=DATE:20231113
DTSTAMP:20260426T101704
CREATED:20231110T020541Z
LAST-MODIFIED:20231207T010535Z
UID:45307-1699660800-1699833599@fkkmk.ugm.ac.id
SUMMARY:MediKAP EXPO
DESCRIPTION:MediKAP expo \nAcara pameran program unggulan luaran Urusan Kerja sama\, Alumni\, dan Pengabdian Masyarakat. Kegiatan ini mengundang klaster dan pusat/unit yang memiliki program unggulan untuk berpartisipasi mengisi booth. \nHari\, tanggal : Jumat-Sabtu\, 10-11 November 2023 \nWaktu : Pkl. 07.30-15.30 WIB; Pkl.07.30-12.00 WIB \nTempat : Halaman depan Gedung Grha Wiyata \n  \nMediKAP Sarasehan \nSarasehan meliputi acara diskusi panel dan diskusi terbuka Urusan Kerja sama\, Alumni\, dan Pengabdian Masyarakat (KAP). Diskusi panel mengundang narasumber yaitu Prof. dr. Jarir At Thobari\, Ph.D\, Dr. dr. Rustamadji\, M.Kes.\, dan WHO Indonesia untuk membahas kerja sama multihelix. Kegiatan ini dimoderatori oleh Tony Arjuna\, S.Gz.\, M.Nut.Diet.\, AN.\, APD.\, Ph.D. Diskusi terbuka mengundang binaan KAP diantaranya JCOEMPH\, Dewi Pinang\, Sportbar\, Aloe-Ku\, Pasar Krempyeng RSA\, Batik Pundong\, dan RS Jejaring Klaten Jamu. \nHari\, tanggal : Jumat\, 10 November 2023 \nWaktu : Pkl. 09.00-11.30 WIB \nTempat : Auditorium Gedung Tahir Lantai 1\, FK-KMK \n  \nMediKAP Fun Run \nAcara lari tidak berbayar dan dapat diikuti oleh sivitas akademik dan masyarakat umum. \nHari\, tanggal : Sabtu\, 11 November 2023 \nWaktu : Pkl. 06.00-12.00 WIB \nStart/Finish : Depan Gedung Tahir\, FK-KMK \n 
URL:https://fkkmk.ugm.ac.id/agenda/medikap-expo/
LOCATION:Fakultas Kedokteran Kesehatan Masyarakat dan Keperawatan Universitas Gadjah Mada\, Jl. Farmako Sekip Utara\, Yogyakarta\, DIY\, 55281\, Indonesia
ATTACH;FMTTYPE=image/jpeg:https://fkkmk.ugm.ac.id/wp-content/uploads/sites/33/2023/11/medikap.jpg
END:VEVENT
BEGIN:VEVENT
DTSTART;VALUE=DATE:20231106
DTEND;VALUE=DATE:20231118
DTSTAMP:20260426T101704
CREATED:20231109T031614Z
LAST-MODIFIED:20231109T072038Z
UID:45272-1699228800-1700265599@fkkmk.ugm.ac.id
SUMMARY:Summer Course 2023
DESCRIPTION:Summer Course 2023 – Future of Healthcare: Leapfrogging Innovation through Precision Medicine is aimed to improve interprofessionalism in health services managements and technologies with their accompanying problems by interdisciplinary and multi-university approach. This summer course outlines health sciences\, integrated with social sciences and population study in health system.
URL:https://fkkmk.ugm.ac.id/agenda/summer-course/
LOCATION:Fakultas Kedokteran Kesehatan Masyarakat dan Keperawatan Universitas Gadjah Mada\, Jl. Farmako Sekip Utara\, Yogyakarta\, DIY\, 55281\, Indonesia
CATEGORIES:Internasional
ATTACH;FMTTYPE=image/jpeg:https://fkkmk.ugm.ac.id/wp-content/uploads/sites/33/2023/11/sc_header_logo-scaled.jpg
ORGANIZER;CN="Kehumasan dan Protokoler FK-KMK UGM":MAILTO:humas.fku@ugm.ac.id
END:VEVENT
END:VCALENDAR