BEGIN:VCALENDAR
VERSION:2.0
PRODID:-//FK-KMK UGM - ECPv6.15.20//NONSGML v1.0//EN
CALSCALE:GREGORIAN
METHOD:PUBLISH
X-ORIGINAL-URL:https://fkkmk.ugm.ac.id
X-WR-CALDESC:Events for FK-KMK UGM
REFRESH-INTERVAL;VALUE=DURATION:PT1H
X-Robots-Tag:noindex
X-PUBLISHED-TTL:PT1H
BEGIN:VTIMEZONE
TZID:Asia/Jakarta
BEGIN:STANDARD
TZOFFSETFROM:+0700
TZOFFSETTO:+0700
TZNAME:WIB
DTSTART:20230101T000000
END:STANDARD
END:VTIMEZONE
BEGIN:VEVENT
DTSTART;TZID=Asia/Jakarta:20240619T083000
DTEND;TZID=Asia/Jakarta:20240628T153000
DTSTAMP:20260420T000025
CREATED:20240606T064153Z
LAST-MODIFIED:20240627T023435Z
UID:47944-1718785800-1719588600@fkkmk.ugm.ac.id
SUMMARY:Summer Course 2024 on Interprofessional Healthcare
DESCRIPTION:Summer Course 2024 on Interprofessional Healthcare: Nourishing Futures: Exploring the Intersection of Food Security and Health Status \ndate: June 19th–28th\, 2024 \ntime: 08.30 a.m.–03.00 p.m. (GMT +7\, Jakarta) \nplace: Faculty of Medicine\, Public Health\, and Nursing\, Universitas Gadjah Mada \nThe two-week course program is an invaluable experience for overseas students to come to Indonesia and have a life-changing experience. The program will expand their horizons with new ideas\, perspectives\, and friendships\, as well as establish a lasting relationship between students from both countries. \nFurther information:\n– WhatsApp: wa.me/628112847975\n– Instagram: @fkkmkugm \nThis course is brought to you by:\nFaculty of Medicine\, Public Health\, and Nursing in collaboration with\nFaculty of Dentistry\nFaculty of Pharmacy\nFaculty of Agricultural Technology \n 
URL:https://fkkmk.ugm.ac.id/agenda/summer-course-summer-course-2024-on-interprofessional-healthcare/
CATEGORIES:Internasional
ATTACH;FMTTYPE=image/jpeg:https://fkkmk.ugm.ac.id/wp-content/uploads/sites/33/2024/06/WhatsApp-Image-2024-06-03-at-18.16.20.jpeg
END:VEVENT
END:VCALENDAR